BEGIN:VCALENDAR
VERSION:2.0
PRODID:-//4D Technology - ECPv6.15.18//NONSGML v1.0//EN
CALSCALE:GREGORIAN
METHOD:PUBLISH
X-WR-CALNAME:4D Technology
X-ORIGINAL-URL:https://4dtechnology.com
X-WR-CALDESC:Events for 4D Technology
REFRESH-INTERVAL;VALUE=DURATION:PT1H
X-Robots-Tag:noindex
X-PUBLISHED-TTL:PT1H
BEGIN:VTIMEZONE
TZID:UTC
BEGIN:STANDARD
TZOFFSETFROM:+0000
TZOFFSETTO:+0000
TZNAME:UTC
DTSTART:20190101T000000
END:STANDARD
END:VTIMEZONE
BEGIN:VEVENT
DTSTART;TZID=UTC:20200204T080000
DTEND;TZID=UTC:20200206T170000
DTSTAMP:20260419T120653
CREATED:20191112T024648Z
LAST-MODIFIED:20210325T213440Z
UID:49338-1580803200-1581008400@4dtechnology.com
SUMMARY:4D Technology at Photonics West 2020
DESCRIPTION:It’s a whole new world of robotics-mounted metrology for production of ultra-smooth optics with sub-angstrom roughness. Are you ready to get your production up to speed? 4D Technology can show you the way\, in our booth at Photonics West. \nFind us in booth 1848 (link to our listing at the SPIE site is below) \n\nFizeau interferometers\nOptical profilometers\nInterferometers for Large Optics\nDefect inspection
URL:https://4dtechnology.com/event/4d-technology-at-photonics-west-2020/
LOCATION:Moscone Center\, San Francisco\, CA\, 747 Howard St\, San Francisco\, CA\, 94103\, United States
END:VEVENT
END:VCALENDAR