BEGIN:VCALENDAR
VERSION:2.0
PRODID:-//4D Technology - ECPv6.15.18//NONSGML v1.0//EN
CALSCALE:GREGORIAN
METHOD:PUBLISH
X-WR-CALNAME:4D Technology
X-ORIGINAL-URL:https://4dtechnology.com
X-WR-CALDESC:Events for 4D Technology
REFRESH-INTERVAL;VALUE=DURATION:PT1H
X-Robots-Tag:noindex
X-PUBLISHED-TTL:PT1H
BEGIN:VTIMEZONE
TZID:UTC
BEGIN:STANDARD
TZOFFSETFROM:+0000
TZOFFSETTO:+0000
TZNAME:UTC
DTSTART:20190101T000000
END:STANDARD
END:VTIMEZONE
BEGIN:VEVENT
DTSTART;TZID=UTC:20200428T080000
DTEND;TZID=UTC:20200430T170000
DTSTAMP:20260419T084523
CREATED:20200307T051455Z
LAST-MODIFIED:20220328T211838Z
UID:49852-1588060800-1588266000@4dtechnology.com
SUMMARY:SPIE Defense and Commercial Sensing 2020
DESCRIPTION:Join us at SPIE’s Defense and Commercial Sensing event in Anaheim\, California\, USA. \n26-30 April 2020. \nBooth 4032 \nGet information about PhaseCam\, our flagship metrology system for dynamic measurement of large\, spherical optics.
URL:https://4dtechnology.com/event/spie-defense-and-commercial-sensing-2020/
LOCATION:Anaheim Convention Center\, Anaheim\, CA\, United States
END:VEVENT
END:VCALENDAR